BEGIN:VCALENDAR
VERSION:2.0
PRODID:-//eventon.com NONSGML v1.0//EN
CALSCALE:GREGORIAN
METHOD:PUBLISH
BEGIN:VEVENT
UID:69ecd07d78628
DTSTAMP:20260425T143229Z
DTSTART:20260804T200000Z
DTEND:20260804T210000Z
LOCATION:Gaston Branch Library 214 South Main St\,  Gaston\,  SC (803) 785-9908
SUMMARY:Lake Murray: Beneath the Surface
DESCRIPTION:Dive into an interactive presentation about the Jewel of South 
 Carolina. Explore Lake Murray&#8217;s layered history\,  discovering what s
 till exists beneath the water&#8217;s surface\,  and uncover how these trea
 sures shape the gathering place it is today\,  sharing your own experiences
  and stories. Partnered with Capital City/Lake Murray Country. (ages 12+)\n
 https://lexcolibrary.com/events/lake-murray-beneath-the-surface-8/
URL:https://lexcolibrary.com/events/lake-murray-beneath-the-surface-8/
END:VEVENT
END:VCALENDAR