BEGIN:VCALENDAR
VERSION:2.0
PRODID:-//eventon.com NONSGML v1.0//EN
CALSCALE:GREGORIAN
METHOD:PUBLISH
BEGIN:VEVENT
UID:69e939c8dd0a9
DTSTAMP:20260422T211240Z
DTSTART:20260105T233000Z
DTEND:20260106T000000Z
LOCATION:Lexington Main Library 5440 Augusta Road\,  Lexington (803) 785-2600
SUMMARY:Pajama Storytime
DESCRIPTION:Throw on your PJ&#8217;s\,  grab a blanket and snuggle in for a
  soothing evening of stories\,  songs and rhymes. (families with children)\
 nhttps://lexcolibrary.com/events/pajama-storytime-9/
URL:https://lexcolibrary.com/events/pajama-storytime-9/
END:VEVENT
END:VCALENDAR