BEGIN:VCALENDAR
VERSION:2.0
PRODID:-//eventon.com NONSGML v1.0//EN
CALSCALE:GREGORIAN
METHOD:PUBLISH
BEGIN:VEVENT
UID:69eb34276a41f
DTSTAMP:20260424T091311Z
DTSTART:20260421T153000Z
DTEND:20260421T160000Z
LOCATION:Swansea Branch Library 199 N. Lawrence Ave\,  Swansea (803) 785-3519
SUMMARY:Preschool Storytime
DESCRIPTION:Share a love of reading with your child by exploring stories to
 gether\,  promoting language skills and sparking their curiosity about the 
 world. (3–5 years)\nhttps://lexcolibrary.com/events/preschool-storytime-1
 9/var/ri-15.l-L1
URL:https://lexcolibrary.com/events/preschool-storytime-19/var/ri-15.l-L1
END:VEVENT
END:VCALENDAR