BEGIN:VCALENDAR
VERSION:2.0
PRODID:-//eventon.com NONSGML v1.0//EN
CALSCALE:GREGORIAN
METHOD:PUBLISH
BEGIN:VEVENT
UID:69e8dbe89c8c3
DTSTAMP:20260422T143208Z
DTSTART:20260422T153000Z
DTEND:20260422T160000Z
LOCATION:Lexington Main Library 5440 Augusta Road\,  Lexington (803) 785-2600
SUMMARY:Preschool Storytime
DESCRIPTION:This storytime is designed to promote language and listening sk
 ills\,  expand the imagination and spark curiosity about the world around u
 s. (3–5 years)\nhttps://lexcolibrary.com/events/preschool-storytime-18/va
 r/ri-15.l-L1
URL:https://lexcolibrary.com/events/preschool-storytime-18/var/ri-15.l-L1
END:VEVENT
END:VCALENDAR