BEGIN:VCALENDAR
VERSION:2.0
PRODID:-//eventon.com NONSGML v1.0//EN
CALSCALE:GREGORIAN
METHOD:PUBLISH
BEGIN:VEVENT
UID:69e8afc061524
DTSTAMP:20260422T112344Z
DTSTART:20260416T143000Z
DTEND:20260416T150000Z
LOCATION:Lexington Main Library 5440 Augusta Road\,  Lexington (803) 785-2600
SUMMARY:Toddlertime
DESCRIPTION:A fun-filled interactive program for toddlers and their grownup
 s that uses songs\,  puppets and more to kindle the learning process. (12â€
 “24 months)\nhttps://lexcolibrary.com/events/toddlertime-29/var/ri-14.l-L1
URL:https://lexcolibrary.com/events/toddlertime-29/var/ri-14.l-L1
END:VEVENT
END:VCALENDAR