BEGIN:VCALENDAR
VERSION:2.0
PRODID:-//eventon.com NONSGML v1.0//EN
CALSCALE:GREGORIAN
METHOD:PUBLISH
BEGIN:VEVENT
UID:69e8db22acd86
DTSTAMP:20260422T142850Z
DTSTART:20260422T133000Z
DTEND:20260422T140000Z
LOCATION:Lexington Main Library 5440 Augusta Road\,  Lexington (803) 785-2600
SUMMARY:Toddlertime
DESCRIPTION:A fun-filled interactive program for toddlers and their grownup
 s that uses rhymes\,  songs and more to kindle the learning process. (12–
 24 months)\nhttps://lexcolibrary.com/events/toddlertime-27/var/ri-15.l-L1
URL:https://lexcolibrary.com/events/toddlertime-27/var/ri-15.l-L1
END:VEVENT
END:VCALENDAR