BEGIN:VCALENDAR
VERSION:2.0
PRODID:-//eventon.com NONSGML v1.0//EN
CALSCALE:GREGORIAN
METHOD:PUBLISH
BEGIN:VEVENT
UID:69e8d1d7c7c26
DTSTAMP:20260422T134911Z
DTSTART:20260422T143000Z
DTEND:20260422T150000Z
LOCATION:Lexington Main Library 5440 Augusta Road\,  Lexington (803) 785-2600
SUMMARY:Toddlertime
DESCRIPTION:A fun-filled interactive program for toddlers and their grownup
 s that uses rhymes\,  songs and more to kindle the learning process. (24–
 36 months)\nhttps://lexcolibrary.com/events/toddlertime-28/var/ri-15.l-L1
URL:https://lexcolibrary.com/events/toddlertime-28/var/ri-15.l-L1
END:VEVENT
END:VCALENDAR