BEGIN:VCALENDAR
VERSION:2.0
PRODID:-//eventon.com NONSGML v1.0//EN
CALSCALE:GREGORIAN
METHOD:PUBLISH
BEGIN:VEVENT
UID:69e91d51dd355
DTSTAMP:20260422T191113Z
DTSTART:20260409T200000Z
DTEND:20260409T210000Z
LOCATION:Lexington Main Library 5440 Augusta Road\,  Lexington (803) 785-2600
SUMMARY:Craft Squad: April Showers
DESCRIPTION:Create rainy day scenes using crayons and watercolor paint to r
 eveal beautiful designs. Dress to get messy. (grades K–5)\nhttps://lexcol
 ibrary.com/events/craft-squad-april-showers-2/
URL:https://lexcolibrary.com/events/craft-squad-april-showers-2/
END:VEVENT
END:VCALENDAR