BEGIN:VCALENDAR
VERSION:2.0
PRODID:-//eventon.com NONSGML v1.0//EN
CALSCALE:GREGORIAN
METHOD:PUBLISH
BEGIN:VEVENT
UID:69e91cf737fda
DTSTAMP:20260422T190943Z
DTSTART:20260407T220000Z
DTEND:20260408T000000Z
LOCATION:Lexington Main Library 5440 Augusta Road\,  Lexington (803) 785-2600
SUMMARY:inBeTween: Library Lounge
DESCRIPTION:Board games\,  cozy vibes\,  comfy spots and all the popcorn yo
 u can handle. Just a chill hangout where teens can relax\,  snack and have 
 fun. (grades 6–8)\nhttps://lexcolibrary.com/events/inbetween-library-loun
 ge-3/var/ri-3.l-L1
URL:https://lexcolibrary.com/events/inbetween-library-lounge-3/var/ri-3.l-L1
END:VEVENT
END:VCALENDAR