BEGIN:VCALENDAR
VERSION:2.0
PRODID:-//eventon.com NONSGML v1.0//EN
CALSCALE:GREGORIAN
METHOD:PUBLISH
BEGIN:VEVENT
UID:69eb4b05555b7
DTSTAMP:20260424T105045Z
DTSTART:20260428T220000Z
DTEND:20260428T230000Z
LOCATION:Lexington Main Library 5440 Augusta Road\,  Lexington (803) 785-2600
SUMMARY:Well Played: Trivia Night
DESCRIPTION:Who will walk away as the trivia champion? Put your knowledge t
 o the test in a high-energy evening of trivia. (grades 6–8)\nhttps://lexc
 olibrary.com/events/well-played-trivia-night-3/var/ri-3.l-L1
URL:https://lexcolibrary.com/events/well-played-trivia-night-3/var/ri-3.l-L1
END:VEVENT
END:VCALENDAR