BEGIN:VCALENDAR
VERSION:2.0
PRODID:-//eventon.com NONSGML v1.0//EN
CALSCALE:GREGORIAN
METHOD:PUBLISH
BEGIN:VEVENT
UID:69eb51bcd9ae6
DTSTAMP:20260424T111924Z
DTSTART:20260406T180000Z
DTEND:20260406T190000Z
LOCATION:Lexington Main Library 5440 Augusta Road\,  Lexington (803) 785-2600
SUMMARY:Book Club: Bookish Banter
DESCRIPTION:Read a variety of books and enjoy lively discussion in a friend
 ly\,  casual atmosphere. (ages 18+)\nhttps://lexcolibrary.com/events/book-c
 lub-bookish-banter-3/var/ri-3.l-L1
URL:https://lexcolibrary.com/events/book-club-bookish-banter-3/var/ri-3.l-L1
END:VEVENT
END:VCALENDAR