BEGIN:VCALENDAR
VERSION:2.0
PRODID:-//eventon.com NONSGML v1.0//EN
CALSCALE:GREGORIAN
METHOD:PUBLISH
BEGIN:VEVENT
UID:69ecb9deb7f52
DTSTAMP:20260425T125558Z
DTSTART:20260428T200000Z
DTEND:20260428T210000Z
LOCATION:Gaston Branch Library 214 South Main St\,  Gaston\,  SC (803) 785-9908
SUMMARY:Create It: Masterpiece Remix
DESCRIPTION:Reimagine a famous artwork and recreate it in a chosen medium f
 or a personalized masterpiece. (grades 9–12)\nhttps://lexcolibrary.com/ev
 ents/create-it-masterpiece-remix-2/
URL:https://lexcolibrary.com/events/create-it-masterpiece-remix-2/
END:VEVENT
END:VCALENDAR