BEGIN:VCALENDAR
VERSION:2.0
PRODID:-//eventon.com NONSGML v1.0//EN
CALSCALE:GREGORIAN
METHOD:PUBLISH
BEGIN:VEVENT
UID:69e8c3d380980
DTSTAMP:20260422T124923Z
DTSTART:20260422T160000Z
DTEND:20260422T173000Z
LOCATION:Pelion Branch Library 206 Pine Street\,  Pelion\,  SC (803) 785-3272
SUMMARY:Community: Mahjong
DESCRIPTION:Learn how to play Mahjong in real life\,  not just on your phon
 e. (ages 18+)\nhttps://lexcolibrary.com/events/community-mahjong-3/var/ri-1
 5.l-L1
URL:https://lexcolibrary.com/events/community-mahjong-3/var/ri-15.l-L1
END:VEVENT
END:VCALENDAR