BEGIN:VCALENDAR
VERSION:2.0
PRODID:-//eventon.com NONSGML v1.0//EN
CALSCALE:GREGORIAN
METHOD:PUBLISH
BEGIN:VEVENT
UID:69e91d063b6e7
DTSTAMP:20260422T190958Z
DTSTART:20260424T200000Z
DTEND:20260424T210000Z
LOCATION:Lexington Main Library 5440 Augusta Road\,  Lexington (803) 785-2600
SUMMARY:Lifelong Learning: Smartphone Photography
DESCRIPTION:Learn to take the best pictures possible with your phone. Prese
 nted by MTC Director of the Center for Teaching Excellence\,  Luis C. Almei
 da. (ages 18+)\nhttps://lexcolibrary.com/events/lifelong-learning-smartphon
 e-photography-2/
URL:https://lexcolibrary.com/events/lifelong-learning-smartphone-photography-2/
END:VEVENT
END:VCALENDAR