BEGIN:VCALENDAR
VERSION:2.0
PRODID:-//eventon.com NONSGML v1.0//EN
CALSCALE:GREGORIAN
METHOD:PUBLISH
BEGIN:VEVENT
UID:69e89bbba48d0
DTSTAMP:20260422T095819Z
DTSTART:20260416T183000Z
DTEND:20260416T193000Z
LOCATION:Lexington Main Library 5440 Augusta Road\,  Lexington (803) 785-2600
SUMMARY:Game On: Bingo
DESCRIPTION:Have fun playing in this spring-themed bingo. (ages 18+)\nhttps
 ://lexcolibrary.com/events/game-on-bingo/
URL:https://lexcolibrary.com/events/game-on-bingo/
END:VEVENT
END:VCALENDAR