BEGIN:VCALENDAR
VERSION:2.0
PRODID:-//eventon.com NONSGML v1.0//EN
CALSCALE:GREGORIAN
METHOD:PUBLISH
BEGIN:VEVENT
UID:69e8a99c23c28
DTSTAMP:20260422T105732Z
DTSTART:20260416T190000Z
DTEND:20260416T200000Z
LOCATION:Gilbert-Summit Branch 405 Broad Street\,  Gilbert\,  SC (803) 785-5387
SUMMARY:Full STEAM Ahead: Cool Science
DESCRIPTION:Have a blast exploring science through fun experiments and acti
 vities. (grades K–5)\nhttps://lexcolibrary.com/events/full-steam-ahead-co
 ol-science-2/
URL:https://lexcolibrary.com/events/full-steam-ahead-cool-science-2/
END:VEVENT
END:VCALENDAR