BEGIN:VCALENDAR
VERSION:2.0
PRODID:-//eventon.com NONSGML v1.0//EN
CALSCALE:GREGORIAN
METHOD:PUBLISH
BEGIN:VEVENT
UID:69e88fc1d6e5d
DTSTAMP:20260422T090713Z
DTSTART:20260416T193000Z
DTEND:20260416T200000Z
LOCATION:Gaston Branch Library 214 South Main St\,  Gaston\,  SC (803) 785-9908
SUMMARY:Craft Squad: Picture Perfect Frames
DESCRIPTION:Use a variety of materials to design and decorate a custom pict
 ure frame\,  perfect for displaying your favorite photo at home. (grades Kâ
 €“5)\nhttps://lexcolibrary.com/events/craft-squad-picture-perfect-frames-2/
URL:https://lexcolibrary.com/events/craft-squad-picture-perfect-frames-2/
END:VEVENT
END:VCALENDAR