BEGIN:VCALENDAR
VERSION:2.0
PRODID:-//eventon.com NONSGML v1.0//EN
CALSCALE:GREGORIAN
METHOD:PUBLISH
BEGIN:VEVENT
UID:69eb4c9b2c281
DTSTAMP:20260424T105731Z
DTSTART:20260421T190000Z
DTEND:20260421T194500Z
LOCATION:Chapin Branch Library 129 Columbia Avenue\,  Chapin (803) 345-5479
SUMMARY:Craft Squad: Spring Has Sprung
DESCRIPTION:Create a no-sew sock bunny chia pet and watch its green &#8220;
 fur&#8221; grow while learning about plants. (grades K–5)\nhttps://lexcol
 ibrary.com/events/craft-squad-spring-has-sprung-2/
URL:https://lexcolibrary.com/events/craft-squad-spring-has-sprung-2/
END:VEVENT
END:VCALENDAR