BEGIN:VCALENDAR
VERSION:2.0
PRODID:-//eventon.com NONSGML v1.0//EN
CALSCALE:GREGORIAN
METHOD:PUBLISH
BEGIN:VEVENT
UID:69eb3430ccd84
DTSTAMP:20260424T091320Z
DTSTART:20260421T150000Z
DTEND:20260421T153000Z
LOCATION:Pelion Branch Library 206 Pine Street\,  Pelion\,  SC (803) 785-3272
SUMMARY:Toddlertime
DESCRIPTION:A fun-filled interactive program for toddlers and their grownup
 s that uses songs\,  puppets and more to kindle the learning process. (12â€
 “36 months)\nhttps://lexcolibrary.com/events/toddlertime-25/var/ri-11.l-L1
URL:https://lexcolibrary.com/events/toddlertime-25/var/ri-11.l-L1
END:VEVENT
END:VCALENDAR