BEGIN:VCALENDAR
VERSION:2.0
PRODID:-//eventon.com NONSGML v1.0//EN
CALSCALE:GREGORIAN
METHOD:PUBLISH
BEGIN:VEVENT
UID:69e8dde47cc41
DTSTAMP:20260422T144036Z
DTSTART:20260421T153000Z
DTEND:20260421T163000Z
LOCATION:Lexington Main Library 5440 Augusta Road\,  Lexington (803) 785-2600
SUMMARY:Mini Movers: Preschool Foamnasium
DESCRIPTION:Explore open play on our Foamnasium playground and support your
  little one’s gross motor skill development. (3–5 years)\nhttps://lexco
 library.com/events/mini-movers-preschool-foamnasium-2/var/ri-15.l-L1
URL:https://lexcolibrary.com/events/mini-movers-preschool-foamnasium-2/var/ri-15.l-L1
END:VEVENT
END:VCALENDAR