BEGIN:VCALENDAR
VERSION:2.0
PRODID:-//eventon.com NONSGML v1.0//EN
CALSCALE:GREGORIAN
METHOD:PUBLISH
BEGIN:VEVENT
UID:69e8f6217ef05
DTSTAMP:20260422T162401Z
DTSTART:20260106T163000Z
DTEND:20260106T173000Z
LOCATION:Lexington Main Library 5440 Augusta Road\,  Lexington (803) 785-2600
SUMMARY:Mini Movers: Preschool Foamnasium
DESCRIPTION:Explore open play on our Foamnasium playground and support your
  little one’s gross motor skill development. (3–5 years)\nhttps://lexco
 library.com/events/mini-movers-preschool-foamnasium-2/
URL:https://lexcolibrary.com/events/mini-movers-preschool-foamnasium-2/
END:VEVENT
END:VCALENDAR