BEGIN:VCALENDAR
VERSION:2.0
PRODID:-//eventon.com NONSGML v1.0//EN
CALSCALE:GREGORIAN
METHOD:PUBLISH
BEGIN:VEVENT
UID:69eb4b0569233
DTSTAMP:20260424T105045Z
DTSTART:20260428T133000Z
DTEND:20260428T143000Z
LOCATION:Lexington Main Library 5440 Augusta Road\,  Lexington (803) 785-2600
SUMMARY:Mini Movers: Baby Foamnasium
DESCRIPTION:Explore open play on our Foamnasium playground and support your
  little one’s gross motor skill development. (birth–18 months)\nhttps:/
 /lexcolibrary.com/events/mini-movers-baby-foamnasium-2/var/ri-16.l-L1
URL:https://lexcolibrary.com/events/mini-movers-baby-foamnasium-2/var/ri-16.l-L1
END:VEVENT
END:VCALENDAR