BEGIN:VCALENDAR
VERSION:2.0
PRODID:-//eventon.com NONSGML v1.0//EN
CALSCALE:GREGORIAN
METHOD:PUBLISH
BEGIN:VEVENT
UID:69e8db22c0daa
DTSTAMP:20260422T142850Z
DTSTART:20260422T170000Z
DTEND:20260422T180000Z
LOCATION:Chapin Branch Library 129 Columbia Avenue\,  Chapin (803) 345-5479
SUMMARY:Preschool Storytime
DESCRIPTION:Share a love of reading with your child by exploring stories to
 gether\,  promoting language skills and sparking their curiosity about the 
 world. (3–5 years)\nhttps://lexcolibrary.com/events/preschool-storytime-1
 3/var/ri-15.l-L1
URL:https://lexcolibrary.com/events/preschool-storytime-13/var/ri-15.l-L1
END:VEVENT
END:VCALENDAR