BEGIN:VCALENDAR
VERSION:2.0
PRODID:-//eventon.com NONSGML v1.0//EN
CALSCALE:GREGORIAN
METHOD:PUBLISH
BEGIN:VEVENT
UID:69e8c38c5179c
DTSTAMP:20260422T124812Z
DTSTART:20260422T144500Z
DTEND:20260422T151500Z
LOCATION:Batesburg-Leesville Branch 203 Armory St.\,  Batesburg\,  SC (803) 532-9223
SUMMARY:Preschool Storytime
DESCRIPTION:Share a love of reading with your child by exploring stories to
 gether\,  promoting language skills and sparking their curiosity about the 
 world. (3–5 years)\nhttps://lexcolibrary.com/events/preschool-storytime-1
 1/var/ri-15.l-L1
URL:https://lexcolibrary.com/events/preschool-storytime-11/var/ri-15.l-L1
END:VEVENT
END:VCALENDAR