BEGIN:VCALENDAR
VERSION:2.0
PRODID:-//eventon.com NONSGML v1.0//EN
CALSCALE:GREGORIAN
METHOD:PUBLISH
BEGIN:VEVENT
UID:69e8c3f28dfd2
DTSTAMP:20260422T124954Z
DTSTART:20260422T140000Z
DTEND:20260422T143000Z
LOCATION:Batesburg-Leesville Branch 203 Armory St.\,  Batesburg\,  SC (803) 532-9223
SUMMARY:Toddlertime
DESCRIPTION:A fun-filled interactive program for toddlers and their grownup
 s that uses songs\,  puppets and more to kindle the learning process. (birt
 h–36 months)\nhttps://lexcolibrary.com/events/toddlertime-21/var/ri-15.l-
 L1
URL:https://lexcolibrary.com/events/toddlertime-21/var/ri-15.l-L1
END:VEVENT
END:VCALENDAR