BEGIN:VCALENDAR
VERSION:2.0
PRODID:-//eventon.com NONSGML v1.0//EN
CALSCALE:GREGORIAN
METHOD:PUBLISH
BEGIN:VEVENT
UID:69e8c3959a896
DTSTAMP:20260422T124821Z
DTSTART:20260422T150000Z
DTEND:20260422T160000Z
LOCATION:Pelion Branch Library 206 Pine Street\,  Pelion\,  SC (803) 785-3272
SUMMARY:Lifelong Learning: Chair Yoga
DESCRIPTION:Wear comfortable clothes and exercise in a DVD-led chair yoga c
 lass. (all ages)\nhttps://lexcolibrary.com/events/lifelong-learning-chair-y
 oga-4/var/ri-15.l-L1
URL:https://lexcolibrary.com/events/lifelong-learning-chair-yoga-4/var/ri-15.l-L1
END:VEVENT
END:VCALENDAR