BEGIN:VCALENDAR
VERSION:2.0
PRODID:-//eventon.com NONSGML v1.0//EN
CALSCALE:GREGORIAN
METHOD:PUBLISH
BEGIN:VEVENT
UID:69e8c3d7bc133
DTSTAMP:20260422T124927Z
DTSTART:20260422T190000Z
DTEND:20260422T210000Z
LOCATION:Gaston Branch Library 214 South Main St\,  Gaston\,  SC (803) 785-9908
SUMMARY:Lego Club
DESCRIPTION:Explore what you can build with Lego bricks. (all ages)\nhttps:
 //lexcolibrary.com/events/lego-club-10/var/ri-15.l-L1
URL:https://lexcolibrary.com/events/lego-club-10/var/ri-15.l-L1
END:VEVENT
END:VCALENDAR