BEGIN:VCALENDAR
VERSION:2.0
PRODID:-//eventon.com NONSGML v1.0//EN
CALSCALE:GREGORIAN
METHOD:PUBLISH
BEGIN:VEVENT
UID:69e8d99451493
DTSTAMP:20260422T142212Z
DTSTART:20260501T150000Z
DTEND:20260501T160000Z
LOCATION:Pelion Branch Library 206 Pine Street\,  Pelion\,  SC (803) 785-3272
SUMMARY:Lifelong Learning: Senior Chair Yoga
DESCRIPTION:Wear comfortable clothes as we exercise in a DVD-led chair yoga
  class. (ages 18+)\nhttps://lexcolibrary.com/events/lifelong-learning-senio
 r-chair-yoga-2/
URL:https://lexcolibrary.com/events/lifelong-learning-senior-chair-yoga-2/
END:VEVENT
END:VCALENDAR