BEGIN:VCALENDAR
VERSION:2.0
PRODID:-//eventon.com NONSGML v1.0//EN
CALSCALE:GREGORIAN
METHOD:PUBLISH
BEGIN:VEVENT
UID:69e893404360f
DTSTAMP:20260422T092208Z
DTSTART:20260502T140000Z
DTEND:20260502T153000Z
LOCATION:Lexington Main Library 5440 Augusta Road\,  Lexington (803) 785-2600
SUMMARY:Social Scene: K-Pop Club
DESCRIPTION:Gather with fellow enthusiasts for games\,  crafts and more. (a
 ges 13+)\nhttps://lexcolibrary.com/events/social-scene-k-pop-club/
URL:https://lexcolibrary.com/events/social-scene-k-pop-club/
END:VEVENT
END:VCALENDAR