BEGIN:VCALENDAR
VERSION:2.0
PRODID:-//eventon.com NONSGML v1.0//EN
CALSCALE:GREGORIAN
METHOD:PUBLISH
BEGIN:VEVENT
UID:69e8c3dcc0205
DTSTAMP:20260422T124932Z
DTSTART:20260501T140000Z
DTEND:20260501T153000Z
LOCATION:Lexington Main Library 5440 Augusta Road\,  Lexington (803) 785-2600
SUMMARY:Handmade: Free Sew
DESCRIPTION:Bring your fabric and thread for your machine sewing projects\,
   and use the library’s sewing machines in a shared\,  creative space. (a
 ges 18+)\nhttps://lexcolibrary.com/events/handmade-free-sew/
URL:https://lexcolibrary.com/events/handmade-free-sew/
END:VEVENT
END:VCALENDAR