BEGIN:VCALENDAR
VERSION:2.0
PRODID:-//eventon.com NONSGML v1.0//EN
CALSCALE:GREGORIAN
METHOD:PUBLISH
BEGIN:VEVENT
UID:69ecd413e5162
DTSTAMP:20260425T144747Z
DTSTART:20260701T203000Z
DTEND:20260701T213000Z
LOCATION:Gaston Branch Library 214 South Main St\,  Gaston\,  SC (803) 785-9908
SUMMARY:Social Scene: Collectible Card Games
DESCRIPTION:Hang out with fellow collectors\,  show off your shiny papers a
 nd learn easy ways to manage your cards. Snacks and drinks provided. (ages 
 16+)\nhttps://lexcolibrary.com/events/social-scene-collectible-card-games/
URL:https://lexcolibrary.com/events/social-scene-collectible-card-games/
END:VEVENT
END:VCALENDAR