BEGIN:VCALENDAR
VERSION:2.0
PRODID:-//eventon.com NONSGML v1.0//EN
CALSCALE:GREGORIAN
METHOD:PUBLISH
BEGIN:VEVENT
UID:69ecba2446e5b
DTSTAMP:20260425T125708Z
DTSTART:20260603T203000Z
DTEND:20260603T213000Z
LOCATION:Gaston Branch Library 214 South Main St\,  Gaston\,  SC (803) 785-9908
SUMMARY:Handmade: Design Your Own Tote
DESCRIPTION:Decorate a sturdy canvas bag using fabric paint or iron-on grap
 hics\,  perfect for carrying books or groceries. (ages 18+)\nhttps://lexcol
 ibrary.com/events/handmade-design-your-own-tote/
URL:https://lexcolibrary.com/events/handmade-design-your-own-tote/
END:VEVENT
END:VCALENDAR