BEGIN:VCALENDAR
VERSION:2.0
PRODID:-//eventon.com NONSGML v1.0//EN
CALSCALE:GREGORIAN
METHOD:PUBLISH
BEGIN:VEVENT
UID:69ecb9c7076c1
DTSTAMP:20260425T125535Z
DTSTART:20260518T213000Z
DTEND:20260518T223000Z
LOCATION:Gaston Branch Library 214 South Main St\,  Gaston\,  SC (803) 785-9908
SUMMARY:Book Club: Nonfiction Nights
DESCRIPTION:Read a nonfiction book of your choice each month and discuss wh
 at you learned. Light refreshments and drinks provided. (ages 16+)\nhttps:/
 /lexcolibrary.com/events/book-club-nonfiction-nights/
URL:https://lexcolibrary.com/events/book-club-nonfiction-nights/
END:VEVENT
END:VCALENDAR