BEGIN:VCALENDAR
VERSION:2.0
PRODID:-//eventon.com NONSGML v1.0//EN
CALSCALE:GREGORIAN
METHOD:PUBLISH
BEGIN:VEVENT
UID:69ecd2e097ff8
DTSTAMP:20260425T144240Z
DTSTART:20260504T203000Z
DTEND:20260504T223000Z
LOCATION:Gaston Branch Library 214 South Main St\,  Gaston\,  SC (803) 785-9908
SUMMARY:Now Showing: Friendly Movies
DESCRIPTION:Spend an afternoon at the library and watch a family-friendly m
 ovie (G-PG). Popcorn provided. (ages 12+)\nhttps://lexcolibrary.com/events/
 now-showing-friendly-movies-2/
URL:https://lexcolibrary.com/events/now-showing-friendly-movies-2/
END:VEVENT
END:VCALENDAR