BEGIN:VCALENDAR
VERSION:2.0
PRODID:-//eventon.com NONSGML v1.0//EN
CALSCALE:GREGORIAN
METHOD:PUBLISH
BEGIN:VEVENT
UID:69e893c98eeb3
DTSTAMP:20260422T092425Z
DTSTART:20260502T140000Z
DTEND:20260502T150000Z
LOCATION:Chapin Branch Library 129 Columbia Avenue\,  Chapin (803) 345-5479
SUMMARY:Handmade: Fiber Friends
DESCRIPTION:Bring your knitting\,  crochet or needlework\,  try new techniq
 ues and troubleshoot challenges in a group setting. (ages 18+)\nhttps://lex
 colibrary.com/events/handmade-fiber-friends/
URL:https://lexcolibrary.com/events/handmade-fiber-friends/
END:VEVENT
END:VCALENDAR