BEGIN:VCALENDAR
VERSION:2.0
PRODID:-//eventon.com NONSGML v1.0//EN
CALSCALE:GREGORIAN
METHOD:PUBLISH
BEGIN:VEVENT
UID:69e8c375f0c09
DTSTAMP:20260422T124749Z
DTSTART:20260501T160000Z
DTEND:20260501T170000Z
LOCATION:Cayce-West Columbia Branch 1500 Augusta Rd\,  West Columbia (803) 794-6791
SUMMARY:Historically Speaking: SC Military Museum
DESCRIPTION:Local experts bring South Carolina’s military history to life
  in this engaging lecture. Partnered with SC Confederate Relic Room and Mil
 itary Museum. (ages 14+)\nhttps://lexcolibrary.com/events/historically-spea
 king-sc-military-museum/
URL:https://lexcolibrary.com/events/historically-speaking-sc-military-museum/
END:VEVENT
END:VCALENDAR