BEGIN:VCALENDAR
VERSION:2.0
PRODID:-//eventon.com NONSGML v1.0//EN
CALSCALE:GREGORIAN
METHOD:PUBLISH
BEGIN:VEVENT
UID:69e8db701f743
DTSTAMP:20260422T143008Z
DTSTART:20260502T143000Z
DTEND:20260502T163000Z
LOCATION:Pelion Branch Library 206 Pine Street\,  Pelion\,  SC (803) 785-3272
SUMMARY:Community: Poetry Party
DESCRIPTION:Celebrate our community poets by listening to submissions for N
 ational Poetry Month and cheering for contestants. Enjoy free-verse and ref
 reshments. Sponsored by Friends of the Pelion Branch Library. (all ages)\nh
 ttps://lexcolibrary.com/events/community-poetry-party/
URL:https://lexcolibrary.com/events/community-poetry-party/
END:VEVENT
END:VCALENDAR