BEGIN:VCALENDAR
VERSION:2.0
PRODID:-//eventon.com NONSGML v1.0//EN
CALSCALE:GREGORIAN
METHOD:PUBLISH
BEGIN:VEVENT
UID:69e91cd88a1d6
DTSTAMP:20260422T190912Z
DTSTART:20260608T193000Z
DTEND:20260608T203000Z
LOCATION:Lexington Main Library 5440 Augusta Road\,  Lexington (803) 785-2600
SUMMARY:STEAM Lab
DESCRIPTION:Explore science\,  technology\,  engineering\,  art and math (S
 TEAM) through hands-on activities and interactive experiments. (3–5 years
 )\nhttps://lexcolibrary.com/events/steam-lab/
URL:https://lexcolibrary.com/events/steam-lab/
END:VEVENT
END:VCALENDAR