BEGIN:VCALENDAR
VERSION:2.0
PRODID:-//eventon.com NONSGML v1.0//EN
CALSCALE:GREGORIAN
METHOD:PUBLISH
BEGIN:VEVENT
UID:69ecd5552b3ce
DTSTAMP:20260425T145309Z
DTSTART:20260623T200000Z
DTEND:20260623T210000Z
LOCATION:Gaston Branch Library 214 South Main St\,  Gaston\,  SC (803) 785-9908
SUMMARY:STEAM Building: Dino-Mite Bookmarks
DESCRIPTION:Explore art and science by creating a dinosaur bookmark inspire
 d by prehistoric life. (grades 9–12)\nhttps://lexcolibrary.com/events/ste
 am-building-dino-mite-bookmarks/
URL:https://lexcolibrary.com/events/steam-building-dino-mite-bookmarks/
END:VEVENT
END:VCALENDAR