BEGIN:VCALENDAR
VERSION:2.0
PRODID:-//eventon.com NONSGML v1.0//EN
CALSCALE:GREGORIAN
METHOD:PUBLISH
BEGIN:VEVENT
UID:69ecba473adcc
DTSTAMP:20260425T125743Z
DTSTART:20260812T190000Z
DTEND:20260812T210000Z
LOCATION:Gaston Branch Library 214 South Main St\,  Gaston\,  SC (803) 785-9908
SUMMARY:Lego Club
DESCRIPTION:Explore what you can build with Lego bricks. (grades K–5)\nht
 tps://lexcolibrary.com/events/lego-club-4/var/ri-14.l-L1
URL:https://lexcolibrary.com/events/lego-club-4/var/ri-14.l-L1
END:VEVENT
END:VCALENDAR