BEGIN:VCALENDAR
VERSION:2.0
PRODID:-//eventon.com NONSGML v1.0//EN
CALSCALE:GREGORIAN
METHOD:PUBLISH
BEGIN:VEVENT
UID:69e88f5d0481c
DTSTAMP:20260422T090533Z
DTSTART:20260501T150000Z
DTEND:20260501T153000Z
LOCATION:Chapin Branch Library 129 Columbia Avenue\,  Chapin (803) 345-5479
SUMMARY:Toddlertime
DESCRIPTION:A fun-filled interactive program for toddlers and their grownup
 s that uses songs\,  puppets and more to kindle the learning process. (12â€
 “36 months)\nhttps://lexcolibrary.com/events/toddlertime-13/
URL:https://lexcolibrary.com/events/toddlertime-13/
END:VEVENT
END:VCALENDAR