BEGIN:VCALENDAR
VERSION:2.0
PRODID:-//eventon.com NONSGML v1.0//EN
CALSCALE:GREGORIAN
METHOD:PUBLISH
BEGIN:VEVENT
UID:69e9fd25431e8
DTSTAMP:20260423T110613Z
DTSTART:20260422T144500Z
DTEND:20260422T151500Z
LOCATION:
SUMMARY:Lexington Medical Child Development Center
DESCRIPTION:Lexington Medical Child Development Center\nhttps://lexcolibrar
 y.com/events/lexington-medical-child-development-center/var/ri-6.l-L1
URL:https://lexcolibrary.com/events/lexington-medical-child-development-center/var/ri-6.l-L1
END:VEVENT
END:VCALENDAR