BEGIN:VCALENDAR
VERSION:2.0
PRODID:-//eventon.com NONSGML v1.0//EN
CALSCALE:GREGORIAN
METHOD:PUBLISH
BEGIN:VEVENT
UID:69e894298337b
DTSTAMP:20260422T092601Z
DTSTART:20260307T150000Z
DTEND:20260307T153000Z
LOCATION:Lexington Main Library 5440 Augusta Road\,  Lexington (803) 785-2600
SUMMARY:Baby Storytime
DESCRIPTION:An experience for our youngest library users and their grownups
  — this storytime is a wonderful way to introduce your child to the joys 
 of reading. (birth–12 months)\nhttps://lexcolibrary.com/events/baby-story
 time-3/var/ri-9.l-L1
URL:https://lexcolibrary.com/events/baby-storytime-3/var/ri-9.l-L1
END:VEVENT
END:VCALENDAR