BEGIN:VCALENDAR
VERSION:2.0
PRODID:-//eventon.com NONSGML v1.0//EN
CALSCALE:GREGORIAN
METHOD:PUBLISH
BEGIN:VEVENT
UID:69e894119025c
DTSTAMP:20260422T092537Z
DTSTART:20260307T160000Z
DTEND:20260307T163000Z
LOCATION:Lexington Main Library 5440 Augusta Road\,  Lexington (803) 785-2600
SUMMARY:Family Storytime
DESCRIPTION:Experience the best in books\,  nursery rhymes\,  finger plays\
 ,  storytelling and songs for any age. (families with children)\nhttps://le
 xcolibrary.com/events/family-storytime-45/var/ri-9.l-L1
URL:https://lexcolibrary.com/events/family-storytime-45/var/ri-9.l-L1
END:VEVENT
END:VCALENDAR