BEGIN:VCALENDAR
VERSION:2.0
PRODID:-//eventon.com NONSGML v1.0//EN
CALSCALE:GREGORIAN
METHOD:PUBLISH
BEGIN:VEVENT
UID:69e893410ba8c
DTSTAMP:20260422T092209Z
DTSTART:20260401T143000Z
DTEND:20260401T150000Z
LOCATION:Gilbert-Summit Branch 405 Broad Street\,  Gilbert\,  SC (803) 785-5387
SUMMARY:Preschool Storytime
DESCRIPTION:Share a love of reading with your child by exploring stories to
 gether\,  promoting language skills and sparking their curiosity about the 
 world. (3–5 years)\nhttps://lexcolibrary.com/events/preschool-storytime-3
 3/var/ri-11.l-L1
URL:https://lexcolibrary.com/events/preschool-storytime-33/var/ri-11.l-L1
END:VEVENT
END:VCALENDAR