BEGIN:VCALENDAR
VERSION:2.0
PRODID:-//eventon.com NONSGML v1.0//EN
CALSCALE:GREGORIAN
METHOD:PUBLISH
BEGIN:VEVENT
UID:69e893f181ab1
DTSTAMP:20260422T092505Z
DTSTART:20260307T190000Z
DTEND:20260307T210000Z
LOCATION:Cayce-West Columbia Branch 1500 Augusta Rd\,  West Columbia (803) 794-6791
SUMMARY:Community: Art Expo
DESCRIPTION:Celebrate Cayce&#8217;s vibrant public art scene and meet the a
 rtists behind the work. (ages 12+)\nhttps://lexcolibrary.com/events/communi
 ty-art-expo/
URL:https://lexcolibrary.com/events/community-art-expo/
END:VEVENT
END:VCALENDAR